BEGIN:VCALENDAR
VERSION:2.0
PRODID:-//EMCS - ECPv6.6.0//NONSGML v1.0//EN
CALSCALE:GREGORIAN
METHOD:PUBLISH
X-ORIGINAL-URL:https://www.emcs.com.mt
X-WR-CALDESC:Events for EMCS
REFRESH-INTERVAL;VALUE=DURATION:PT1H
X-Robots-Tag:noindex
X-PUBLISHED-TTL:PT1H
BEGIN:VTIMEZONE
TZID:UTC
BEGIN:STANDARD
TZOFFSETFROM:+0000
TZOFFSETTO:+0000
TZNAME:UTC
DTSTART:20190101T000000
END:STANDARD
END:VTIMEZONE
BEGIN:VEVENT
DTSTART;TZID=UTC:20191008T170000
DTEND;TZID=UTC:20191008T180000
DTSTAMP:20260423T141415
CREATED:20191009T083959Z
LAST-MODIFIED:20191009T084438Z
UID:18508-1570554000-1570557600@www.emcs.com.mt
SUMMARY:Inauguration of restored Mdina Apse
DESCRIPTION:Tlesta x‑xogħol ta’ restawr u konservazzjoni fuq il‑pittura fl‑apside tal‑Katidral ta’ San Pawl\, l‑Imdina\, li sar mill‑Arċidjoċesi ta’ Malta b’kofinanzjament minn fondi tal‑Unjoni Ewropea. Dan il‑proġett b’investiment ta’ €70\,000 ġie inawgurat mill‑Isqof Awżiljarju Joseph Galea‑Curmi. \nIl‑pittura li ġiet irrestawrata kienet ikkummissjonata lil Mattia Preti fl‑1688 u saret fuq il‑ħajt tal‑knisja l‑antika\, jiġifieri dik li kien hemm qabel it‑terremot tal‑1693. Il‑pittura turi n‑nawfraġju ta’ San Pawl u hija meqjusa bħala waħda mill‑aktar pitturi fidili lejn ir‑rakkont tan‑nawfraġju fl‑Atti tal‑Appostli. Fiċ‑ċentru tagħha jidher l‑Appostlu Missierna San Pawl iħares lejn il‑Missier Etern li qed jibgħat lill‑anġlu tiegħu biex isabbar lil San Pawl u jaċċertah li l‑276 persuna fuq il‑ġifen se jsalvaw kollha. Matul is‑snin saret ħafna ħsara lil din il‑pittura bil‑konsegwenza li kellhom isiru numru ta’ interventi ta’ restawr. \nWaqt konferenza tal‑aħbarijiet fil‑Katidral tal‑Imdina\, l‑Isqof Joseph Galea‑Curmi qal li l‑Katidral\, li huwa s‑sede tal‑Arċisqof ta’ Malta\, huwa ġawhra prezzjuza fl‑istorja reliġjuża ta’ pajjiżna li turi kif l‑għeruq tagħna l‑Maltin kienu msawra u msaħħa fil‑fidi sa mill‑bidu. Huwa fakkar kif din il‑knisja fil‑belt kapitali l‑antika ta’ Malta\, tissemma’ għall‑ewwel darba fl‑1299 meta l‑knisja kienet qed tinbena\, u li sa mill‑bidu nett dan it‑tempju kien ddedikat lil San Pawl. L‑Isqof Galea‑Curmi rringrazzja lill‑Ministeru għall‑Affarijiet Ewropej għall‑fondi tal‑Unjoni Ewropea\, li permezz tagħhom ukoll seta’ jsir dan ir‑restawr. Huwa ħeġġeġ lis‑soċjetà Maltija biex filwaqt li tikber fl‑apprezzament tal‑patrimonju ekkleżjastiku ta’ pajjiżna\, tagħraf il‑ħeġġa li biha missirijietna b’tant sagrifiċċju għexu u esprimew l‑identità reliġjuża tagħhom għaliex għarfu dak li kien tal‑akbar ġid għalihom u għal uliedhom. \nIs‑Segretarju Amministrattiv tal‑Arċidjoċesi ta’ Malta\, Michael Pace Ross\, irringrazzja lir‑restawraturi ReCoop għal dan ix‑xogħol ta’ restawr u konservazzjoni li qal ser ikun jista’ jitgawda minna\, minn dawk kollha li jiġu jżuru pajjiżna\, kif ukoll mill‑ġenerazzjonijiet futuri. Qal li l‑Katidral tal‑Imdina hu wieħed mill‑knejjes fl‑Arċidjoċesi ta’ Malta li bbenefika mill‑Fond Ewropew għall‑Iżvilupp Reġjonali 2014‑2020. \nRitratti: knisja.mt/ritratti
URL:https://www.emcs.com.mt/classes/inauguration-of-restored-mdina-apse/
CATEGORIES:Financial
ATTACH;FMTTYPE=image/jpeg:https://www.emcs.com.mt/wp-content/uploads/2019/10/Inauguration-09102019.jpg
END:VEVENT
BEGIN:VEVENT
DTSTART;VALUE=DATE:20190327
DTEND;VALUE=DATE:20190328
DTSTAMP:20260423T141415
CREATED:20170825T225526Z
LAST-MODIFIED:20190221T121830Z
UID:13769-1553644800-1553731199@www.emcs.com.mt
SUMMARY:The State of the Maltese Economy
DESCRIPTION:Description\nEMCS together with the Malta Chamber of Commerce\, Enterprise & Industry are organising a morning seminar titled “The State of the Maltese Economy”. This event will be held on the 27th March at the Exchange Building in Valletta. The Speakers will include leading economists who will give an in-depth analysis of the Maltese economy\, as well as the Prime Minister of Malta Dr. Joseph Muscat and the Leader of the Opposition Dr. Adrian Delia. Please watch this space for further updates on this event
URL:https://www.emcs.com.mt/classes/the-state-of-the-maltese-economy/
LOCATION:Exchange Building in Valleta\, Valleta\, Valleta\, Malta
CATEGORIES:Financial
ATTACH;FMTTYPE=image/jpeg:https://www.emcs.com.mt/wp-content/uploads/2017/08/Facebook-Post-1200x1200px.jpg
END:VEVENT
END:VCALENDAR